Package: FEAST Version: 1.10.0 Command: /Library/Frameworks/R.framework/Resources/bin/R CMD check --install=check:FEAST.install-out.txt --library=/Library/Frameworks/R.framework/Resources/library --no-vignettes --timings FEAST_1.10.0.tar.gz StartedAt: 2024-03-03 20:35:31 -0500 (Sun, 03 Mar 2024) EndedAt: 2024-03-03 20:39:28 -0500 (Sun, 03 Mar 2024) EllapsedTime: 237.5 seconds RetCode: 0 Status: OK CheckDir: FEAST.Rcheck Warnings: 0