Package: FEAST Version: 1.10.0 Command: /home/biocbuild/R/R-4.3.1/bin/R CMD check --install=check:FEAST.install-out.txt --library=/home/biocbuild/R/R-4.3.1/site-library --no-vignettes --timings FEAST_1.10.0.tar.gz StartedAt: 2023-11-02 10:29:00 -0000 (Thu, 02 Nov 2023) EndedAt: 2023-11-02 10:33:28 -0000 (Thu, 02 Nov 2023) EllapsedTime: 268.0 seconds RetCode: 0 Status: OK CheckDir: FEAST.Rcheck Warnings: 0