Package: FEAST Version: 1.10.0 Command: /home/biocbuild/R/R-4.3.1/bin/R CMD build --keep-empty-dirs --no-resave-data FEAST StartedAt: 2023-11-02 01:03:57 -0000 (Thu, 02 Nov 2023) EndedAt: 2023-11-02 01:05:25 -0000 (Thu, 02 Nov 2023) EllapsedTime: 87.1 seconds RetCode: 0 Status: OK PackageFile: FEAST_1.10.0.tar.gz PackageFileSize: 3.51 MiB