Package: FCBF Version: 2.10.0 Command: rm -rf FCBF.buildbin-libdir && mkdir FCBF.buildbin-libdir && F:\biocbuild\bbs-3.18-bioc\R\bin\R.exe CMD INSTALL --build --library=FCBF.buildbin-libdir FCBF_2.10.0.tar.gz StartedAt: 2024-04-16 07:00:21 -0400 (Tue, 16 Apr 2024) EndedAt: 2024-04-16 07:00:55 -0400 (Tue, 16 Apr 2024) EllapsedTime: 34.4 seconds RetCode: 0 Status: OK PackageFile: FCBF_2.10.0.zip PackageFileSize: 2.946 MiB