Package: FCBF Version: 2.10.0 Command: /home/biocbuild/bbs-3.18-bioc/R/bin/R CMD INSTALL FCBF StartedAt: 2024-04-15 15:13:50 -0400 (Mon, 15 Apr 2024) EndedAt: 2024-04-15 15:14:13 -0400 (Mon, 15 Apr 2024) EllapsedTime: 22.9 seconds RetCode: 0 Status: OK