Package: FCBF Version: 2.10.0 Command: /Library/Frameworks/R.framework/Resources/bin/R CMD check --install=check:FCBF.install-out.txt --library=/Library/Frameworks/R.framework/Resources/library --no-vignettes --timings FCBF_2.10.0.tar.gz StartedAt: 2024-04-16 02:46:02 -0400 (Tue, 16 Apr 2024) EndedAt: 2024-04-16 02:55:42 -0400 (Tue, 16 Apr 2024) EllapsedTime: 580.1 seconds RetCode: 0 Status: OK CheckDir: FCBF.Rcheck Warnings: 0