Package: FCBF Version: 2.10.0 Command: /Library/Frameworks/R.framework/Resources/bin/R CMD build --keep-empty-dirs --no-resave-data FCBF StartedAt: 2024-04-15 18:39:56 -0400 (Mon, 15 Apr 2024) EndedAt: 2024-04-15 18:42:38 -0400 (Mon, 15 Apr 2024) EllapsedTime: 161.9 seconds RetCode: 0 Status: OK PackageFile: FCBF_2.10.0.tar.gz PackageFileSize: 2.98 MiB