Package: FCBF Version: 2.10.0 Command: /Library/Frameworks/R.framework/Resources/bin/R CMD build --keep-empty-dirs --no-resave-data FCBF StartedAt: 2024-03-03 16:42:23 -0500 (Sun, 03 Mar 2024) EndedAt: 2024-03-03 16:43:56 -0500 (Sun, 03 Mar 2024) EllapsedTime: 93.7 seconds RetCode: 0 Status: OK PackageFile: FCBF_2.10.0.tar.gz PackageFileSize: 2.913 MiB