Package: ExperimentHub Version: 2.10.0 Command: /Library/Frameworks/R.framework/Resources/bin/R CMD build --keep-empty-dirs --no-resave-data ExperimentHub StartedAt: 2024-03-03 16:41:12 -0500 (Sun, 03 Mar 2024) EndedAt: 2024-03-03 16:42:15 -0500 (Sun, 03 Mar 2024) EllapsedTime: 62.2 seconds RetCode: 0 Status: OK PackageFile: ExperimentHub_2.10.0.tar.gz PackageFileSize: 485.3 KiB