Package: ExiMiR Version: 2.44.0 Command: rm -rf ExiMiR.buildbin-libdir && mkdir ExiMiR.buildbin-libdir && F:\biocbuild\bbs-3.18-bioc\R\bin\R.exe CMD INSTALL --build --library=ExiMiR.buildbin-libdir ExiMiR_2.44.0.tar.gz StartedAt: 2024-04-16 06:59:41 -0400 (Tue, 16 Apr 2024) EndedAt: 2024-04-16 06:59:52 -0400 (Tue, 16 Apr 2024) EllapsedTime: 11.3 seconds RetCode: 0 Status: OK PackageFile: ExiMiR_2.44.0.zip PackageFileSize: 1.067 MiB