Package: ExiMiR Version: 2.44.0 Command: /home/biocbuild/bbs-3.18-bioc/R/bin/R CMD INSTALL ExiMiR StartedAt: 2024-04-15 15:09:30 -0400 (Mon, 15 Apr 2024) EndedAt: 2024-04-15 15:09:38 -0400 (Mon, 15 Apr 2024) EllapsedTime: 7.2 seconds RetCode: 0 Status: OK