Package: ExiMiR Version: 2.44.0 Command: /Library/Frameworks/R.framework/Resources/bin/R CMD build --keep-empty-dirs --no-resave-data ExiMiR StartedAt: 2024-03-03 16:41:03 -0500 (Sun, 03 Mar 2024) EndedAt: 2024-03-03 16:42:23 -0500 (Sun, 03 Mar 2024) EllapsedTime: 79.3 seconds RetCode: 0 Status: OK PackageFile: ExiMiR_2.44.0.tar.gz PackageFileSize: 1.506 MiB