Package: ExCluster Version: 1.20.0 Command: /home/biocbuild/R/R-4.3.1/bin/R CMD INSTALL ExCluster StartedAt: 2023-11-01 20:21:40 -0000 (Wed, 01 Nov 2023) EndedAt: 2023-11-01 20:22:26 -0000 (Wed, 01 Nov 2023) EllapsedTime: 46.0 seconds RetCode: 0 Status: OK