Package: EventPointer Version: 3.10.0 Command: /Library/Frameworks/R.framework/Resources/bin/R CMD INSTALL EventPointer StartedAt: 2024-04-15 16:20:02 -0400 (Mon, 15 Apr 2024) EndedAt: 2024-04-15 16:21:55 -0400 (Mon, 15 Apr 2024) EllapsedTime: 113.4 seconds RetCode: 0 Status: OK