Package: EventPointer Version: 3.10.0 Command: rm -rf EventPointer.buildbin-libdir && mkdir EventPointer.buildbin-libdir && /Users/biocbuild/BBS/utils/build-universal.sh EventPointer_3.10.0.tar.gz /Library/Frameworks/R.framework/Resources/bin/R EventPointer.buildbin-libdir StartedAt: 2024-04-16 11:39:06 -0400 (Tue, 16 Apr 2024) EndedAt: 2024-04-16 11:42:20 -0400 (Tue, 16 Apr 2024) EllapsedTime: 193.5 seconds RetCode: 0 Status: OK PackageFile: EventPointer_3.10.0.tgz PackageFileSize: 1.315 MiB