Package: EventPointer Version: 3.10.0 Command: /Library/Frameworks/R.framework/Resources/bin/R CMD check --install=check:EventPointer.install-out.txt --library=/Library/Frameworks/R.framework/Resources/library --no-vignettes --timings EventPointer_3.10.0.tar.gz StartedAt: 2024-03-03 20:30:58 -0500 (Sun, 03 Mar 2024) EndedAt: 2024-03-03 20:38:29 -0500 (Sun, 03 Mar 2024) EllapsedTime: 451.3 seconds RetCode: 0 Status: OK CheckDir: EventPointer.Rcheck Warnings: 0