Package: EventPointer Version: 3.10.0 Command: /home/biocbuild/R/R-4.3.1/bin/R CMD INSTALL EventPointer StartedAt: 2023-11-01 20:51:02 -0000 (Wed, 01 Nov 2023) EndedAt: 2023-11-01 20:52:16 -0000 (Wed, 01 Nov 2023) EllapsedTime: 74.0 seconds RetCode: 0 Status: OK