Package: EpiMix Version: 1.4.0 Command: /home/biocbuild/bbs-3.18-bioc/R/bin/R CMD INSTALL EpiMix StartedAt: 2024-04-15 15:51:19 -0400 (Mon, 15 Apr 2024) EndedAt: 2024-04-15 15:52:02 -0400 (Mon, 15 Apr 2024) EllapsedTime: 42.9 seconds RetCode: 0 Status: OK