Package: EpiMix Version: 1.4.0 Command: /home/biocbuild/bbs-3.18-bioc/R/bin/R CMD check --install=check:EpiMix.install-out.txt --library=/home/biocbuild/bbs-3.18-bioc/R/site-library --timings EpiMix_1.4.0.tar.gz StartedAt: 2024-04-15 22:30:24 -0400 (Mon, 15 Apr 2024) EndedAt: 2024-04-15 22:49:19 -0400 (Mon, 15 Apr 2024) EllapsedTime: 1134.3 seconds RetCode: 0 Status: OK CheckDir: EpiMix.Rcheck Warnings: 0