Package: EpiMix Version: 1.4.0 Command: /home/biocbuild/bbs-3.18-bioc/R/bin/R CMD build --keep-empty-dirs --no-resave-data EpiMix StartedAt: 2024-04-15 16:59:25 -0400 (Mon, 15 Apr 2024) EndedAt: 2024-04-15 17:05:30 -0400 (Mon, 15 Apr 2024) EllapsedTime: 364.8 seconds RetCode: 0 Status: OK PackageFile: EpiMix_1.4.0.tar.gz PackageFileSize: 2.778 MiB