Package: EpiMix Version: 1.4.0 Command: /home/biocbuild/R/R-4.3.1/bin/R CMD check --install=check:EpiMix.install-out.txt --library=/home/biocbuild/R/R-4.3.1/site-library --timings EpiMix_1.4.0.tar.gz StartedAt: 2023-10-25 10:22:31 -0000 (Wed, 25 Oct 2023) EndedAt: 2023-10-25 10:55:16 -0000 (Wed, 25 Oct 2023) EllapsedTime: 1965.1 seconds RetCode: 0 Status: OK CheckDir: EpiMix.Rcheck Warnings: 0