Package: EpiDISH Version: 2.18.0 Command: rm -rf EpiDISH.buildbin-libdir && mkdir EpiDISH.buildbin-libdir && /Users/biocbuild/BBS/utils/build-universal.sh EpiDISH_2.18.0.tar.gz /Library/Frameworks/R.framework/Resources/bin/R EpiDISH.buildbin-libdir StartedAt: 2024-04-16 11:36:36 -0400 (Tue, 16 Apr 2024) EndedAt: 2024-04-16 11:36:57 -0400 (Tue, 16 Apr 2024) EllapsedTime: 21.0 seconds RetCode: 0 Status: OK PackageFile: EpiDISH_2.18.0.tgz PackageFileSize: 1.844 MiB