Package: EpiCompare Version: 1.6.7 Command: /Library/Frameworks/R.framework/Resources/bin/R CMD build --keep-empty-dirs --no-resave-data EpiCompare StartedAt: 2024-04-15 18:30:45 -0400 (Mon, 15 Apr 2024) EndedAt: 2024-04-15 18:33:42 -0400 (Mon, 15 Apr 2024) EllapsedTime: 177.4 seconds RetCode: 0 Status: OK PackageFile: EpiCompare_1.6.7.tar.gz PackageFileSize: 1.869 MiB