Package: EpiCompare Version: 1.6.5 Command: /Library/Frameworks/R.framework/Resources/bin/R CMD check --install=check:EpiCompare.install-out.txt --library=/Library/Frameworks/R.framework/Resources/library --no-vignettes --timings EpiCompare_1.6.5.tar.gz StartedAt: 2024-03-03 20:25:28 -0500 (Sun, 03 Mar 2024) EndedAt: 2024-03-03 20:39:03 -0500 (Sun, 03 Mar 2024) EllapsedTime: 815.8 seconds RetCode: 1 Status: ERROR CheckDir: EpiCompare.Rcheck Warnings: NA