Package: EpiCompare Version: 1.6.7 Maintainer: Thomas Roberts MaintainerEmail: tomroberts.work15 at gmail.com git_url: https://git.bioconductor.org/packages/EpiCompare git_branch: RELEASE_3_18 git_last_commit: 6ea246a git_last_commit_date: 2024-03-19 06:14:23 -0400 (Tue, 19 Mar 2024)