Package: EnhancedVolcano Version: 1.20.0 Command: /home/biocbuild/bbs-3.18-bioc/R/bin/R CMD build --keep-empty-dirs --no-resave-data EnhancedVolcano StartedAt: 2024-04-15 16:56:44 -0400 (Mon, 15 Apr 2024) EndedAt: 2024-04-15 16:58:14 -0400 (Mon, 15 Apr 2024) EllapsedTime: 90.1 seconds RetCode: 0 Status: OK PackageFile: EnhancedVolcano_1.20.0.tar.gz PackageFileSize: 8.878 MiB