Package: EnhancedVolcano Version: 1.20.0 Command: /Library/Frameworks/R.framework/Resources/bin/R CMD INSTALL EnhancedVolcano StartedAt: 2024-03-03 15:10:01 -0500 (Sun, 03 Mar 2024) EndedAt: 2024-03-03 15:10:18 -0500 (Sun, 03 Mar 2024) EllapsedTime: 17.0 seconds RetCode: 0 Status: OK