Package: EnMCB Version: 1.14.0 Command: /home/biocbuild/R/R-4.3.1/bin/R CMD build --keep-empty-dirs --no-resave-data EnMCB StartedAt: 2023-11-02 00:40:06 -0000 (Thu, 02 Nov 2023) EndedAt: 2023-11-02 00:40:58 -0000 (Thu, 02 Nov 2023) EllapsedTime: 52.1 seconds RetCode: 0 Status: OK PackageFile: EnMCB_1.14.0.tar.gz PackageFileSize: 4.929 MiB