Package: EmpiricalBrownsMethod Version: 1.30.0 Command: /Library/Frameworks/R.framework/Resources/bin/R CMD INSTALL EmpiricalBrownsMethod StartedAt: 2024-03-03 15:03:37 -0500 (Sun, 03 Mar 2024) EndedAt: 2024-03-03 15:03:48 -0500 (Sun, 03 Mar 2024) EllapsedTime: 11.1 seconds RetCode: 0 Status: OK