Package: EWCE Version: 1.10.2 Command: rm -rf EWCE.buildbin-libdir && mkdir EWCE.buildbin-libdir && F:\biocbuild\bbs-3.18-bioc\R\bin\R.exe CMD INSTALL --build --library=EWCE.buildbin-libdir EWCE_1.10.2.tar.gz StartedAt: 2024-04-16 06:59:39 -0400 (Tue, 16 Apr 2024) EndedAt: 2024-04-16 07:00:32 -0400 (Tue, 16 Apr 2024) EllapsedTime: 53.3 seconds RetCode: 0 Status: OK PackageFile: EWCE_1.10.2.zip PackageFileSize: 2.014 MiB