Package: EWCE Version: 1.10.2 Command: /home/biocbuild/R/R-4.3.1/bin/R CMD build --keep-empty-dirs --no-resave-data EWCE StartedAt: 2023-11-02 00:57:25 -0000 (Thu, 02 Nov 2023) EndedAt: 2023-11-02 01:37:25 -0000 (Thu, 02 Nov 2023) EllapsedTime: 2400.2 seconds RetCode: None Status: TIMEOUT PackageFile: None PackageFileSize: NA