Package: ENmix Version: 1.38.01 Command: /home/biocbuild/bbs-3.18-bioc/R/bin/R CMD check --install=check:ENmix.install-out.txt --library=/home/biocbuild/bbs-3.18-bioc/R/site-library --timings ENmix_1.38.01.tar.gz StartedAt: 2024-04-15 22:26:31 -0400 (Mon, 15 Apr 2024) EndedAt: 2024-04-15 22:31:56 -0400 (Mon, 15 Apr 2024) EllapsedTime: 325.0 seconds RetCode: 0 Status: OK CheckDir: ENmix.Rcheck Warnings: 0