Package: EGSEA Version: 1.30.1 Command: /Library/Frameworks/R.framework/Resources/bin/R CMD INSTALL EGSEA StartedAt: 2024-04-15 16:25:24 -0400 (Mon, 15 Apr 2024) EndedAt: 2024-04-15 16:27:14 -0400 (Mon, 15 Apr 2024) EllapsedTime: 109.7 seconds RetCode: 0 Status: OK