Package: EGSEA Version: 1.30.1 Command: rm -rf EGSEA.buildbin-libdir && mkdir EGSEA.buildbin-libdir && /Users/biocbuild/BBS/utils/build-universal.sh EGSEA_1.30.1.tar.gz /Library/Frameworks/R.framework/Resources/bin/R EGSEA.buildbin-libdir StartedAt: 2024-04-16 11:35:26 -0400 (Tue, 16 Apr 2024) EndedAt: 2024-04-16 11:38:22 -0400 (Tue, 16 Apr 2024) EllapsedTime: 175.0 seconds RetCode: 0 Status: OK PackageFile: EGSEA_1.30.1.tgz PackageFileSize: 2.442 MiB