Package: EBcoexpress Version: 1.46.0 Command: /home/biocbuild/bbs-3.18-bioc/R/bin/R CMD check --install=check:EBcoexpress.install-out.txt --library=/home/biocbuild/bbs-3.18-bioc/R/site-library --timings EBcoexpress_1.46.0.tar.gz StartedAt: 2024-04-15 22:23:04 -0400 (Mon, 15 Apr 2024) EndedAt: 2024-04-15 22:23:55 -0400 (Mon, 15 Apr 2024) EllapsedTime: 51.0 seconds RetCode: 0 Status: WARNINGS CheckDir: EBcoexpress.Rcheck Warnings: 1