Package: EBSeq Version: 2.0.0 Command: rm -rf EBSeq.buildbin-libdir && mkdir EBSeq.buildbin-libdir && F:\biocbuild\bbs-3.18-bioc\R\bin\R.exe CMD INSTALL --build --library=EBSeq.buildbin-libdir EBSeq_2.0.0.tar.gz StartedAt: 2024-04-16 06:57:34 -0400 (Tue, 16 Apr 2024) EndedAt: 2024-04-16 06:58:13 -0400 (Tue, 16 Apr 2024) EllapsedTime: 39.1 seconds RetCode: 0 Status: OK PackageFile: EBSeq_2.0.0.zip PackageFileSize: 1.487 MiB