Package: EBSeq Version: 2.0.0 Command: /home/biocbuild/R/R-4.3.1/bin/R CMD build --keep-empty-dirs --no-resave-data EBSeq StartedAt: 2023-11-02 00:34:43 -0000 (Thu, 02 Nov 2023) EndedAt: 2023-11-02 00:34:44 -0000 (Thu, 02 Nov 2023) EllapsedTime: 1.0 seconds RetCode: 0 Status: OK PackageFile: EBSeq_2.0.0.tar.gz PackageFileSize: 1.07 MiB