############################################################################## ############################################################################## ### ### Running command: ### ### /Library/Frameworks/R.framework/Resources/bin/R CMD check --install=check:Dune.install-out.txt --library=/Library/Frameworks/R.framework/Resources/library --no-vignettes --timings Dune_1.14.0.tar.gz ### ############################################################################## ############################################################################## * using log directory ‘/Users/biocbuild/bbs-3.18-bioc/meat/Dune.Rcheck’ * using R version 4.3.3 (2024-02-29) * using platform: x86_64-apple-darwin20 (64-bit) * R was compiled by Apple clang version 14.0.0 (clang-1400.0.29.202) GNU Fortran (GCC) 12.2.0 * running under: macOS Monterey 12.7.1 * using session charset: UTF-8 * using option ‘--no-vignettes’ * checking for file ‘Dune/DESCRIPTION’ ... OK * this is package ‘Dune’ version ‘1.14.0’ * package encoding: UTF-8 * checking package namespace information ... OK * checking package dependencies ... OK * checking if this is a source package ... OK * checking if there is a namespace ... OK * checking for hidden files and directories ... OK * checking for portable file names ... OK * checking for sufficient/correct file permissions ... OK * checking whether package ‘Dune’ can be installed ... OK * checking installed package size ... OK * checking package directory ... OK * checking ‘build’ directory ... OK * checking DESCRIPTION meta-information ... OK * checking top-level files ... OK * checking for left-over files ... OK * checking index information ... OK * checking package subdirectories ... OK * checking R files for non-ASCII characters ... OK * checking R files for syntax errors ... OK * checking whether the package can be loaded ... OK * checking whether the package can be loaded with stated dependencies ... OK * checking whether the package can be unloaded cleanly ... OK * checking whether the namespace can be loaded with stated dependencies ... OK * checking whether the namespace can be unloaded cleanly ... OK * checking startup messages can be suppressed ... OK * checking dependencies in R code ... NOTE package 'methods' is used but not declared * checking S3 generic/method consistency ... OK * checking replacement functions ... OK * checking foreign function calls ... OK * checking R code for possible problems ... NOTE .metricTrend: no visible binding for global variable ‘.’ .metricTrend: no visible binding for global variable ‘step’ .metricTrend: no visible binding for global variable ‘change’ .metricTrend: no visible binding for global variable ‘value’ .plotMetric: no visible binding for global variable ‘label2’ .plotMetric: no visible binding for global variable ‘metric’ .plotMetric: no visible binding for global variable ‘label1’ ARIImp : f: no visible binding for global variable ‘cells’ ConfusionEvolution : : no visible binding for global variable ‘Freq’ ConfusionEvolution : : no visible binding for global variable ‘total_x’ ConfusionEvolution : : no visible binding for global variable ‘total_y’ ConfusionEvolution: no visible binding for global variable ‘overlap’ ConfusionEvolution: no visible binding for global variable ‘Freq’ ConfusionEvolution: no visible binding for global variable ‘step’ ConfusionPlot: no visible binding for global variable ‘Freq’ ConfusionPlot: no visible binding for global variable ‘total_x’ ConfusionPlot: no visible binding for global variable ‘total_y’ ConfusionPlot: no visible binding for global variable ‘overlap’ NMIImp : f: no visible binding for global variable ‘cells’ intermediateMat: no visible binding for global variable ‘cells’ plotPrePost: no visible binding for global variable ‘Nb’ Undefined global functions or variables: . Freq Nb cells change label1 label2 metric overlap step total_x total_y value Consider adding importFrom("stats", "step") to your NAMESPACE file. * checking Rd files ... OK * checking Rd metadata ... OK * checking Rd cross-references ... OK * checking for missing documentation entries ... OK * checking for code/documentation mismatches ... OK * checking Rd \usage sections ... OK * checking Rd contents ... OK * checking for unstated dependencies in examples ... OK * checking contents of ‘data’ directory ... OK * checking data for non-ASCII characters ... OK * checking LazyData ... OK * checking data for ASCII and uncompressed saves ... OK * checking files in ‘vignettes’ ... OK * checking examples ... OK Examples with CPU (user + system) or elapsed time > 5s user system elapsed Dune 18.213 0.108 19.852 ARItrend 11.412 0.094 12.333 ARIImp 10.611 0.231 11.951 plotARIs 10.739 0.051 11.786 plotNMIs 10.532 0.064 11.549 NMItrend 10.379 0.044 11.321 plotPrePost 10.269 0.056 11.185 functionTracking 10.167 0.054 11.370 intermediateMat 10.007 0.055 11.014 whenToStop 9.990 0.059 11.071 NMIImp 9.850 0.041 10.755 clusterConversion 9.828 0.061 10.878 * checking for unstated dependencies in ‘tests’ ... OK * checking tests ... Running ‘testthat.R’ OK * checking for unstated dependencies in vignettes ... OK * checking package vignettes in ‘inst/doc’ ... OK * checking running R code from vignettes ... SKIPPED * checking re-building of vignette outputs ... SKIPPED * checking PDF version of manual ... OK * DONE Status: 2 NOTEs See ‘/Users/biocbuild/bbs-3.18-bioc/meat/Dune.Rcheck/00check.log’ for details.