Package: Dune Version: 1.14.0 Command: rm -rf Dune.buildbin-libdir && mkdir Dune.buildbin-libdir && /Users/biocbuild/BBS/utils/build-universal.sh Dune_1.14.0.tar.gz /Library/Frameworks/R.framework/Resources/bin/R Dune.buildbin-libdir StartedAt: 2024-04-16 11:34:06 -0400 (Tue, 16 Apr 2024) EndedAt: 2024-04-16 11:35:24 -0400 (Tue, 16 Apr 2024) EllapsedTime: 78.0 seconds RetCode: 0 Status: OK PackageFile: Dune_1.14.0.tgz PackageFileSize: 1.861 MiB