Package: Dune Version: 1.14.0 Command: /Library/Frameworks/R.framework/Resources/bin/R CMD check --install=check:Dune.install-out.txt --library=/Library/Frameworks/R.framework/Resources/library --no-vignettes --timings Dune_1.14.0.tar.gz StartedAt: 2024-03-03 20:20:29 -0500 (Sun, 03 Mar 2024) EndedAt: 2024-03-03 20:26:24 -0500 (Sun, 03 Mar 2024) EllapsedTime: 355.1 seconds RetCode: 0 Status: OK CheckDir: Dune.Rcheck Warnings: 0