Package: DrugVsDisease Version: 2.44.0 Command: rm -rf DrugVsDisease.buildbin-libdir && mkdir DrugVsDisease.buildbin-libdir && /Users/biocbuild/BBS/utils/build-universal.sh DrugVsDisease_2.44.0.tar.gz /Library/Frameworks/R.framework/Resources/bin/R DrugVsDisease.buildbin-libdir StartedAt: 2024-04-16 11:33:48 -0400 (Tue, 16 Apr 2024) EndedAt: 2024-04-16 11:35:40 -0400 (Tue, 16 Apr 2024) EllapsedTime: 112.6 seconds RetCode: 0 Status: OK PackageFile: DrugVsDisease_2.44.0.tgz PackageFileSize: 2.731 MiB