Package: DrugVsDisease Version: 2.44.0 Command: /Library/Frameworks/R.framework/Resources/bin/R CMD check --install=check:DrugVsDisease.install-out.txt --library=/Library/Frameworks/R.framework/Resources/library --no-vignettes --timings DrugVsDisease_2.44.0.tar.gz StartedAt: 2024-03-03 20:19:45 -0500 (Sun, 03 Mar 2024) EndedAt: 2024-03-03 20:23:07 -0500 (Sun, 03 Mar 2024) EllapsedTime: 201.7 seconds RetCode: 0 Status: OK CheckDir: DrugVsDisease.Rcheck Warnings: 0