Package: DrugVsDisease Version: 2.44.0 Command: rm -rf DrugVsDisease.buildbin-libdir && mkdir DrugVsDisease.buildbin-libdir && /Users/biocbuild/BBS/utils/build-universal.sh DrugVsDisease_2.44.0.tar.gz /Library/Frameworks/R.framework/Resources/bin/R DrugVsDisease.buildbin-libdir StartedAt: 2024-03-04 00:39:07 -0500 (Mon, 04 Mar 2024) EndedAt: 2024-03-04 00:39:59 -0500 (Mon, 04 Mar 2024) EllapsedTime: 51.1 seconds RetCode: 0 Status: OK PackageFile: DrugVsDisease_2.44.0.tgz PackageFileSize: 2.73 MiB