Package: DrugVsDisease Version: 2.44.0 Command: /home/biocbuild/R/R-4.3.1/bin/R CMD INSTALL DrugVsDisease StartedAt: 2023-11-01 20:26:12 -0000 (Wed, 01 Nov 2023) EndedAt: 2023-11-01 20:27:01 -0000 (Wed, 01 Nov 2023) EllapsedTime: 48.9 seconds RetCode: 0 Status: OK