Package: DropletUtils Version: 1.22.0 Command: /Library/Frameworks/R.framework/Resources/bin/R CMD build --keep-empty-dirs --no-resave-data DropletUtils StartedAt: 2024-04-15 18:25:18 -0400 (Mon, 15 Apr 2024) EndedAt: 2024-04-15 18:28:51 -0400 (Mon, 15 Apr 2024) EllapsedTime: 213.0 seconds RetCode: 0 Status: OK PackageFile: DropletUtils_1.22.0.tar.gz PackageFileSize: 602.6 KiB