Package: DropletUtils Version: 1.22.0 Command: rm -rf DropletUtils.buildbin-libdir && mkdir DropletUtils.buildbin-libdir && /Users/biocbuild/BBS/utils/build-universal.sh DropletUtils_1.22.0.tar.gz /Library/Frameworks/R.framework/Resources/bin/R DropletUtils.buildbin-libdir StartedAt: 2024-04-16 11:33:41 -0400 (Tue, 16 Apr 2024) EndedAt: 2024-04-16 11:38:09 -0400 (Tue, 16 Apr 2024) EllapsedTime: 268.2 seconds RetCode: 0 Status: OK PackageFile: DropletUtils_1.22.0.tgz PackageFileSize: 2.316 MiB