Package: DropletUtils Version: 1.22.0 Command: /Library/Frameworks/R.framework/Resources/bin/R CMD INSTALL DropletUtils StartedAt: 2024-03-03 15:23:06 -0500 (Sun, 03 Mar 2024) EndedAt: 2024-03-03 15:24:42 -0500 (Sun, 03 Mar 2024) EllapsedTime: 95.4 seconds RetCode: 0 Status: OK