Package: DropletUtils Version: 1.22.0 Command: /Library/Frameworks/R.framework/Resources/bin/R CMD build --keep-empty-dirs --no-resave-data DropletUtils StartedAt: 2024-03-03 16:35:52 -0500 (Sun, 03 Mar 2024) EndedAt: 2024-03-03 16:37:36 -0500 (Sun, 03 Mar 2024) EllapsedTime: 103.8 seconds RetCode: 0 Status: OK PackageFile: DropletUtils_1.22.0.tar.gz PackageFileSize: 564.6 KiB