Package: DominoEffect Version: 1.22.0 Command: rm -rf DominoEffect.buildbin-libdir && mkdir DominoEffect.buildbin-libdir && F:\biocbuild\bbs-3.18-bioc\R\bin\R.exe CMD INSTALL --build --library=DominoEffect.buildbin-libdir DominoEffect_1.22.0.tar.gz StartedAt: 2024-03-06 08:34:53 -0500 (Wed, 06 Mar 2024) EndedAt: 2024-03-06 08:35:40 -0500 (Wed, 06 Mar 2024) EllapsedTime: 47.5 seconds RetCode: 0 Status: OK PackageFile: DominoEffect_1.22.0.zip PackageFileSize: 587.3 KiB