Package: DominoEffect Version: 1.22.0 Command: /home/biocbuild/bbs-3.18-bioc/R/bin/R CMD check --install=check:DominoEffect.install-out.txt --library=/home/biocbuild/bbs-3.18-bioc/R/site-library --timings DominoEffect_1.22.0.tar.gz StartedAt: 2024-03-05 21:54:43 -0500 (Tue, 05 Mar 2024) EndedAt: 2024-03-05 22:01:59 -0500 (Tue, 05 Mar 2024) EllapsedTime: 435.3 seconds RetCode: 0 Status: OK CheckDir: DominoEffect.Rcheck Warnings: 0